Workbook
Name промоп: #REF!
Name промоп: '[2]проект сметы 2019'!$H$13
Name процентжилые: #REF!
Name процентжилые: '[2]проект сметы 2019'!$F$13
Name процентмоп: #REF!
Name процентмоп: '[2]проект сметы 2019'!$H$15
Name процентофисы: #REF!
Name процентофисы: '[2]проект сметы 2019'!$D$13
Name процентпаркинг: #REF!
Name процентпаркинг: '[2]проект сметы 2019'!$J$13

Sheet исполнение сметы 2019
A2: Исполнение сметы расходов за период 2019г
A4: №пп | B4: Наименование расходов | C4: План по смете | D4: Факт | E4: отклонение, + экономия, /- перерасход | F4: % выполнения плана | G4: примечание
A6: 1 | B6: Расходы по управлению
A7: 1.1. | B7: ФОТ с начислениями | C7: 5489697 | D7: =[1]зп!B19+37000 -> 5394550.6 | E7: =C7-D7 -> 95146.403 | F7: =D7/C7*100 -> 98.266819 | G7: отсутствие уборщика паркинга 3 мес
A8: 1.2. | B8: Хозрасходы, банковские расходы, содержание офиса | C8: 224000 | D8: =[1]подотчет!K210+'[1]безнал 2019'!O52+13000+30000+9000+8000+7000 -> 220276.67 | E8: =C8-D8 -> 3723.33 | F8: =D8/C8*100 -> 98.337799
A9: 1.3. | B9: Юридические услуги | C9: 144000 | D9: =[1]подотчет!K214+'[1]безнал 2019'!O5+90000+15000 -> 120430.48 | E9: =C9-D9 -> 23569.52 | F9: =D9/C9*100 -> 83.632278
A11: 2 | B11: Эксплуатационные расходы
A12: 2.1. | B12: ТО инженерных систем | C12: =180000*12 -> 2160000 | D12: =180000*12 -> 2160000 | E12: =C12-D12 -> 0 | F12: =D12/C12*100 -> 100
A13: 2.2. | B13: ТО лифтов + освидетельствование | C13: 435857 | D13: =[1]подотчет!K212+'[1]безнал 2019'!O53 -> 425457 | E13: =C13-D13 -> 10400 | F13: =D13/C13*100 -> 97.613896
A14: 2.3. | B14: ТО систем пожаротушения | C14: 251416 | D14: =20000*12+[1]подотчет!K213+'[1]безнал 2019'!E39+'[1]безнал 2019'!D25+'[1]безнал 2019'!E25+'[1]безнал 2019'!E27-8000 -> 251478.6 | E14: =C14-D14 -> -62.6 | F14: =D14/C14*100 -> 100.0249
A15: 2.4. | B15: ТО систем видеонаблюд. + домофон | C15: 0 | D15: 0 | E15: =C15-D15 -> 0 | F15: 0
A16: 2.5. | B16: Промывка систем | C16: 100000 | D16: 93000 | E16: =C16-D16 -> 7000 | F16: =D16/C16*100 -> 93
A17: 2.6. | B17: Вывоз ТБО | C17: 259000 | D17: ='[1]безнал 2019'!P11+'[1]безнал 2019'!O30+1400 -> 259000 | E17: =C17-D17 -> 0 | F17: =D17/C17*100 -> 100
A18: 2.6. | B18: Текущий ремонт и благоустройство | C18: 230000 | D18: =[1]подотчет!K211+'[1]безнал 2019'!O55-13000-30000-7000 -> 229840.15 | E18: =C18-D18 -> 159.85 | F18: =D18/C18*100 -> 99.9305
B19: ИТОГО | C19: =C7+C8+C9+C12+C13+C14+C15+C17+C18+C16 -> 9293970 | D19: =D7+D8+D9+D12+D13+D14+D15+D16+D17+D18 -> 9154033.5 | E19: =E7+E8+E9+E12+E13+E14+E15+E16+E17+E18 -> 139936.5 | F19: =D19/C19*100 -> 98.49433
